BEGIN:VCALENDAR
VERSION:2.0
PRODID:-//pretix//pretix.eu//
BEGIN:VTIMEZONE
TZID:Europe/Berlin
BEGIN:STANDARD
DTSTART:20001029T040000
RRULE:FREQ=YEARLY;BYDAY=-1SU;BYMONTH=10
TZNAME:CET
TZOFFSETFROM:+0200
TZOFFSETTO:+0100
END:STANDARD
BEGIN:DAYLIGHT
DTSTART:20000326T030000
RRULE:FREQ=YEARLY;BYDAY=-1SU;BYMONTH=3
TZNAME:CEST
TZOFFSETFROM:+0100
TZOFFSETTO:+0200
END:DAYLIGHT
END:VTIMEZONE
BEGIN:VEVENT
UID:pretix-gcf-gws-hj1-26-0@events.coworking-germany.org
DTSTART;TZID=Europe/Berlin:20260413T180000
DTEND;TZID=Europe/Berlin:20260413T190000
DESCRIPTION:Tickets: https://events.coworking-germany.org/gws-hj1-26/\nVera
 nstalter: German Coworking Federation e.V.
DTSTAMP:20260422T091235Z
SUMMARY:Coworking Workshop für Gründer:innen HJ1/26
END:VEVENT
BEGIN:VEVENT
UID:pretix-gcf-nwt2026-04-0@events.coworking-germany.org
DTSTART;TZID=Europe/Berlin:20260416T183000
DTEND;TZID=Europe/Berlin:20260416T193000
DESCRIPTION:Tickets: https://events.coworking-germany.org/nwt2026-04/\nVera
 nstalter: German Coworking Federation e.V.
DTSTAMP:20260422T091235Z
SUMMARY:Netzwerktreffen Coworking April
END:VEVENT
BEGIN:VEVENT
UID:pretix-gcf-fachtag-mwo-0@events.coworking-germany.org
DTSTART;TZID=Europe/Berlin:20260423T100000
DTEND;TZID=Europe/Berlin:20260423T153000
DESCRIPTION:Tickets: https://events.coworking-germany.org/fachtag-mwo/\nEin
 lass: 23.04.2026 10:00\nVeranstalter: German Coworking Federation e.V.
DTSTAMP:20260422T091235Z
LOCATION:kiwifalter\, Kaiserswerth\, Düsseldorf
SUMMARY:FACHTAG: Coworking und MehrWertOrte
END:VEVENT
BEGIN:VEVENT
UID:pretix-gcf-cowork2026-0@events.coworking-germany.org
DTSTART;TZID=Europe/Berlin:20260423T160000
DTEND;TZID=Europe/Berlin:20260425T160000
DESCRIPTION:Tickets: https://events.coworking-germany.org/cowork2026/\nEinl
 ass: 23.04.2026 16:00\nVeranstalter: German Coworking Federation e.V.
DTSTAMP:20260422T091235Z
LOCATION:kiwifalter\, Kaiserswerth\, Düsseldorf
SUMMARY:COWORK2026
END:VEVENT
BEGIN:VEVENT
UID:pretix-gcf-nwt2026-5-0@events.coworking-germany.org
DTSTART;TZID=Europe/Berlin:20260512T123000
DTEND;TZID=Europe/Berlin:20260512T133000
DESCRIPTION:Tickets: https://events.coworking-germany.org/nwt2026-5/\nVeran
 stalter: German Coworking Federation e.V.
DTSTAMP:20260422T091235Z
SUMMARY:Netzwerktreffen Coworking Mai
END:VEVENT
BEGIN:VEVENT
UID:pretix-gcf-cowo-fest-26-0@events.coworking-germany.org
DTSTART;VALUE=DATE:20260918
DTEND;VALUE=DATE:20260919
DESCRIPTION:Tickets: https://events.coworking-germany.org/cowo-fest-26/\nVe
 ranstalter: German Coworking Federation e.V.
DTSTAMP:20260422T091235Z
LOCATION:Dezentral
SUMMARY:Coworking Festival Germany
END:VEVENT
END:VCALENDAR
